BEGIN:VCALENDAR
VERSION:2.0
PRODID:-//Chung Tai International Retreat Center 中台國際禪修中心 - ECPv6.15.18//NONSGML v1.0//EN
CALSCALE:GREGORIAN
METHOD:PUBLISH
X-WR-CALNAME:Chung Tai International Retreat Center 中台國際禪修中心
X-ORIGINAL-URL:https://ctcmusa.org/?lang=zh-hant
X-WR-CALDESC:Events for Chung Tai International Retreat Center 中台國際禪修中心
REFRESH-INTERVAL;VALUE=DURATION:PT1H
X-Robots-Tag:noindex
X-PUBLISHED-TTL:PT1H
BEGIN:VTIMEZONE
TZID:America/Chicago
BEGIN:DAYLIGHT
TZOFFSETFROM:-0600
TZOFFSETTO:-0500
TZNAME:CDT
DTSTART:20230312T080000
END:DAYLIGHT
BEGIN:STANDARD
TZOFFSETFROM:-0500
TZOFFSETTO:-0600
TZNAME:CST
DTSTART:20231105T070000
END:STANDARD
BEGIN:DAYLIGHT
TZOFFSETFROM:-0600
TZOFFSETTO:-0500
TZNAME:CDT
DTSTART:20240310T080000
END:DAYLIGHT
BEGIN:STANDARD
TZOFFSETFROM:-0500
TZOFFSETTO:-0600
TZNAME:CST
DTSTART:20241103T070000
END:STANDARD
BEGIN:DAYLIGHT
TZOFFSETFROM:-0600
TZOFFSETTO:-0500
TZNAME:CDT
DTSTART:20250309T080000
END:DAYLIGHT
BEGIN:STANDARD
TZOFFSETFROM:-0500
TZOFFSETTO:-0600
TZNAME:CST
DTSTART:20251102T070000
END:STANDARD
BEGIN:DAYLIGHT
TZOFFSETFROM:-0600
TZOFFSETTO:-0500
TZNAME:CDT
DTSTART:20260308T080000
END:DAYLIGHT
BEGIN:STANDARD
TZOFFSETFROM:-0500
TZOFFSETTO:-0600
TZNAME:CST
DTSTART:20261101T070000
END:STANDARD
END:VTIMEZONE
BEGIN:VEVENT
DTSTART;TZID=America/Chicago:20250525T093000
DTEND;TZID=America/Chicago:20250525T163000
DTSTAMP:20260420T032159
CREATED:20250204T024342Z
LAST-MODIFIED:20250511T230356Z
UID:4897-1748165400-1748190600@ctcmusa.org
SUMMARY:德州寶塔禪寺一日禪
DESCRIPTION:中文禪修班：自5月2日（星期五）起，每週五下午2:30至4:30。 住得較遠或不方便親自到場的信眾，也可選擇線上參加。歡迎大家踴躍參加，一同修習禪定，安定身心。
URL:https://ctcmusa.org/event/%e5%be%b7%e5%b7%9e%e5%af%b6%e5%a1%94%e7%a6%aa%e5%af%ba%e4%b8%80%e6%97%a5%e7%a6%aa-11/?lang=zh-hant
LOCATION:Chung Tai International Retreat Center\, 425 Blackberry Ln\, Shepherd\, TX\, 77371\, United States
CATEGORIES:禪修,首頁
ATTACH;FMTTYPE=image/jpeg:https://ctcmusa.org/wp-content/uploads/2025/02/大20240707_One-Day-retreatIMG_8309.jpeg
END:VEVENT
BEGIN:VEVENT
DTSTART;TZID=America/Chicago:20250523T143000
DTEND;TZID=America/Chicago:20250523T163000
DTSTAMP:20260420T032159
CREATED:20250511T231748Z
LAST-MODIFIED:20250511T231748Z
UID:5143-1748010600-1748017800@ctcmusa.org
SUMMARY:禪修班5月2日起 每週五下午
DESCRIPTION:中文禪修班：自5月2日（星期五）起，每週五下午2:30至4:30。 住得較遠或不方便親自到場的信眾，也可選擇線上參加。歡迎大家踴躍參加，一同修習禪定，安定身心。
URL:https://ctcmusa.org/event/%e7%a6%aa%e4%bf%ae%e7%8f%ad5%e6%9c%882%e6%97%a5%e8%b5%b7-%e6%af%8f%e9%80%b1%e4%ba%94%e4%b8%8b%e5%8d%88-3/?lang=zh-hant
LOCATION:Chung Tai International Retreat Center\, 425 Blackberry Ln\, Shepherd\, TX\, 77371\, United States
CATEGORIES:首頁
ATTACH;FMTTYPE=image/jpeg:https://ctcmusa.org/wp-content/uploads/2025/02/042025.jpg
END:VEVENT
BEGIN:VEVENT
DTSTART;TZID=America/Chicago:20250516T143000
DTEND;TZID=America/Chicago:20250516T163000
DTSTAMP:20260420T032159
CREATED:20250511T231438Z
LAST-MODIFIED:20250511T231438Z
UID:5141-1747405800-1747413000@ctcmusa.org
SUMMARY:禪修班5月2日起 每週五下午
DESCRIPTION:中文禪修班：自5月2日（星期五）起，每週五下午2:30至4:30。 住得較遠或不方便親自到場的信眾，也可選擇線上參加。歡迎大家踴躍參加，一同修習禪定，安定身心。
URL:https://ctcmusa.org/event/%e7%a6%aa%e4%bf%ae%e7%8f%ad5%e6%9c%882%e6%97%a5%e8%b5%b7-%e6%af%8f%e9%80%b1%e4%ba%94%e4%b8%8b%e5%8d%88-2/?lang=zh-hant
LOCATION:Chung Tai International Retreat Center\, 425 Blackberry Ln\, Shepherd\, TX\, 77371\, United States
CATEGORIES:首頁
ATTACH;FMTTYPE=image/jpeg:https://ctcmusa.org/wp-content/uploads/2025/02/042025.jpg
END:VEVENT
BEGIN:VEVENT
DTSTART;TZID=America/Chicago:20250509T143000
DTEND;TZID=America/Chicago:20250509T163000
DTSTAMP:20260420T032159
CREATED:20250511T231101Z
LAST-MODIFIED:20250511T231101Z
UID:5139-1746801000-1746808200@ctcmusa.org
SUMMARY:禪修班5月2日起 每週五下午
DESCRIPTION:中文禪修班：自5月2日（星期五）起，每週五下午2:30至4:30。 住得較遠或不方便親自到場的信眾，也可選擇線上參加。歡迎大家踴躍參加，一同修習禪定，安定身心。
URL:https://ctcmusa.org/event/%e7%a6%aa%e4%bf%ae%e7%8f%ad5%e6%9c%882%e6%97%a5%e8%b5%b7-%e6%af%8f%e9%80%b1%e4%ba%94%e4%b8%8b%e5%8d%88/?lang=zh-hant
LOCATION:Chung Tai International Retreat Center\, 425 Blackberry Ln\, Shepherd\, TX\, 77371\, United States
CATEGORIES:首頁
ATTACH;FMTTYPE=image/jpeg:https://ctcmusa.org/wp-content/uploads/2025/02/042025.jpg
END:VEVENT
BEGIN:VEVENT
DTSTART;TZID=America/Chicago:20250502T143000
DTEND;TZID=America/Chicago:20250502T163000
DTSTAMP:20260420T032159
CREATED:20250204T030455Z
LAST-MODIFIED:20250501T213047Z
UID:4898-1746196200-1746203400@ctcmusa.org
SUMMARY:禪修班5月2日起 每週五下午
DESCRIPTION:中文禪修班：自5月2日（星期五）起，每週五下午2:30至4:30。 住得較遠或不方便親自到場的信眾，也可選擇線上參加。歡迎大家踴躍參加，一同修習禪定，安定身心。
URL:https://ctcmusa.org/event/%e6%af%8f%e9%80%b1%e4%ba%94/?lang=zh-hant
LOCATION:Chung Tai International Retreat Center\, 425 Blackberry Ln\, Shepherd\, TX\, 77371\, United States
CATEGORIES:首頁
ATTACH;FMTTYPE=image/jpeg:https://ctcmusa.org/wp-content/uploads/2025/02/042025.jpg
END:VEVENT
BEGIN:VEVENT
DTSTART;TZID=America/Chicago:20250427T093000
DTEND;TZID=America/Chicago:20250427T163000
DTSTAMP:20260420T032159
CREATED:20250204T022658Z
LAST-MODIFIED:20250210T001427Z
UID:4899-1745746200-1745771400@ctcmusa.org
SUMMARY:德州寶塔禪寺一日禪
DESCRIPTION:中文禪修班：自5月2日（星期五）起，每週五下午2:30至4:30。 住得較遠或不方便親自到場的信眾，也可選擇線上參加。歡迎大家踴躍參加，一同修習禪定，安定身心。
URL:https://ctcmusa.org/event/%e5%be%b7%e5%b7%9e%e5%af%b6%e5%a1%94%e7%a6%aa%e5%af%ba%e4%b8%80%e6%97%a5%e7%a6%aa-12/?lang=zh-hant
LOCATION:Chung Tai International Retreat Center\, 425 Blackberry Ln\, Shepherd\, TX\, 77371\, United States
CATEGORIES:禪修,首頁
ATTACH;FMTTYPE=image/jpeg:https://ctcmusa.org/wp-content/uploads/2025/02/大20240707_One-Day-retreatIMG_8309.jpeg
END:VEVENT
BEGIN:VEVENT
DTSTART;TZID=America/Chicago:20250407T193000
DTEND;TZID=America/Chicago:20250407T213000
DTSTAMP:20260420T032159
CREATED:20250204T025416Z
LAST-MODIFIED:20250204T025416Z
UID:4900-1744054200-1744061400@ctcmusa.org
SUMMARY:中台開山祖忌法會(台灣日期4/8)
DESCRIPTION:中文禪修班：自5月2日（星期五）起，每週五下午2:30至4:30。 住得較遠或不方便親自到場的信眾，也可選擇線上參加。歡迎大家踴躍參加，一同修習禪定，安定身心。
URL:https://ctcmusa.org/event/%e4%b8%ad%e5%8f%b0%e9%96%8b%e5%b1%b1%e7%a5%96%e5%bf%8c%e6%b3%95%e6%9c%83%e5%8f%b0%e7%81%a3%e6%97%a5%e6%9c%9f4-8/?lang=zh-hant
LOCATION:Chung Tai International Retreat Center\, 425 Blackberry Ln\, Shepherd\, TX\, 77371\, United States
CATEGORIES:法會,首頁
ATTACH;FMTTYPE=image/jpeg:https://ctcmusa.org/wp-content/uploads/2023/09/4-Ceremony-1.jpg
END:VEVENT
BEGIN:VEVENT
DTSTART;VALUE=DATE:20250403
DTEND;VALUE=DATE:20250411
DTSTAMP:20260420T032159
CREATED:20250204T025318Z
LAST-MODIFIED:20250204T025318Z
UID:4901-1743638400-1744329599@ctcmusa.org
SUMMARY:朝聖之旅—開山祖忌法會
DESCRIPTION:中文禪修班：自5月2日（星期五）起，每週五下午2:30至4:30。 住得較遠或不方便親自到場的信眾，也可選擇線上參加。歡迎大家踴躍參加，一同修習禪定，安定身心。
URL:https://ctcmusa.org/event/%e6%9c%9d%e8%81%96%e4%b9%8b%e6%97%85-%e9%96%8b%e5%b1%b1%e7%a5%96%e5%bf%8c%e6%b3%95%e6%9c%83/?lang=zh-hant
LOCATION:TX
CATEGORIES:法會,首頁
ATTACH;FMTTYPE=image/jpeg:https://ctcmusa.org/wp-content/uploads/2023/09/4-Ceremony-1.jpg
END:VEVENT
BEGIN:VEVENT
DTSTART;TZID=America/Chicago:20250216T093000
DTEND;TZID=America/Chicago:20250216T163000
DTSTAMP:20260420T032159
CREATED:20250204T024300Z
LAST-MODIFIED:20250210T001300Z
UID:4903-1739698200-1739723400@ctcmusa.org
SUMMARY:德州寶塔禪寺一日禪
DESCRIPTION:中文禪修班：自5月2日（星期五）起，每週五下午2:30至4:30。 住得較遠或不方便親自到場的信眾，也可選擇線上參加。歡迎大家踴躍參加，一同修習禪定，安定身心。
URL:https://ctcmusa.org/event/%e5%be%b7%e5%b7%9e%e5%af%b6%e5%a1%94%e7%a6%aa%e5%af%ba%e4%b8%80%e6%97%a5%e7%a6%aa-13/?lang=zh-hant
LOCATION:Chung Tai International Retreat Center\, 425 Blackberry Ln\, Shepherd\, TX\, 77371\, United States
CATEGORIES:禪修,首頁
ATTACH;FMTTYPE=image/jpeg:https://ctcmusa.org/wp-content/uploads/2025/02/大20240707_One-Day-retreatIMG_8309.jpeg
END:VEVENT
BEGIN:VEVENT
DTSTART;TZID=America/Chicago:20250125T143000
DTEND;TZID=America/Chicago:20250125T163000
DTSTAMP:20260420T032159
CREATED:20241222T193724Z
LAST-MODIFIED:20241222T193724Z
UID:4803-1737815400-1737822600@ctcmusa.org
SUMMARY:禪修班（每週六）
DESCRIPTION:中文禪修班：自5月2日（星期五）起，每週五下午2:30至4:30。 住得較遠或不方便親自到場的信眾，也可選擇線上參加。歡迎大家踴躍參加，一同修習禪定，安定身心。
URL:https://ctcmusa.org/event/%e7%a6%aa%e4%bf%ae%e7%8f%ad%ef%bc%88%e6%af%8f%e9%80%b1%e5%85%ad%ef%bc%89-9/?lang=zh-hant
LOCATION:Chung Tai International Retreat Center\, 425 Blackberry Ln\, Shepherd\, TX\, 77371\, United States
CATEGORIES:進行中,首頁
ATTACH;FMTTYPE=image/jpeg:https://ctcmusa.org/wp-content/uploads/2024/08/MeditationClass0.jpeg
END:VEVENT
BEGIN:VEVENT
DTSTART;TZID=America/Chicago:20250125T133000
DTEND;TZID=America/Chicago:20250125T150000
DTSTAMP:20260420T032159
CREATED:20241222T193816Z
LAST-MODIFIED:20241222T194624Z
UID:4805-1737811800-1737817200@ctcmusa.org
SUMMARY:親子禪修班（每週六）
DESCRIPTION:中文禪修班：自5月2日（星期五）起，每週五下午2:30至4:30。 住得較遠或不方便親自到場的信眾，也可選擇線上參加。歡迎大家踴躍參加，一同修習禪定，安定身心。
URL:https://ctcmusa.org/event/%e8%a6%aa%e5%ad%90%e7%a6%aa%e4%bf%ae%e7%8f%ad%ef%bc%88%e6%af%8f%e9%80%b1%e5%85%ad%ef%bc%89-2/?lang=zh-hant
LOCATION:Chung Tai International Retreat Center\, 425 Blackberry Ln\, Shepherd\, TX\, 77371\, United States
CATEGORIES:進行中,首頁
ATTACH;FMTTYPE=image/jpeg:https://ctcmusa.org/wp-content/uploads/2024/12/CTCM2025SpringClassesChildren.jpg
END:VEVENT
BEGIN:VEVENT
DTSTART;TZID=America/Chicago:20250122T143000
DTEND;TZID=America/Chicago:20250122T163000
DTSTAMP:20260420T032159
CREATED:20241222T193534Z
LAST-MODIFIED:20241222T193534Z
UID:4801-1737556200-1737563400@ctcmusa.org
SUMMARY:禪修班（每週三）
DESCRIPTION:中文禪修班：自5月2日（星期五）起，每週五下午2:30至4:30。 住得較遠或不方便親自到場的信眾，也可選擇線上參加。歡迎大家踴躍參加，一同修習禪定，安定身心。
URL:https://ctcmusa.org/event/%e7%a6%aa%e4%bf%ae%e7%8f%ad%ef%bc%88%e6%af%8f%e9%80%b1%e4%b8%89%ef%bc%89-8/?lang=zh-hant
LOCATION:Chung Tai International Retreat Center\, 425 Blackberry Ln\, Shepherd\, TX\, 77371\, United States
CATEGORIES:進行中,首頁
ATTACH;FMTTYPE=image/jpeg:https://ctcmusa.org/wp-content/uploads/2024/08/MeditationClass0.jpeg
END:VEVENT
BEGIN:VEVENT
DTSTART;TZID=America/Chicago:20250118T143000
DTEND;TZID=America/Chicago:20250118T163000
DTSTAMP:20260420T032159
CREATED:20241222T193345Z
LAST-MODIFIED:20241222T193425Z
UID:4799-1737210600-1737217800@ctcmusa.org
SUMMARY:禪修班（每週六）
DESCRIPTION:中文禪修班：自5月2日（星期五）起，每週五下午2:30至4:30。 住得較遠或不方便親自到場的信眾，也可選擇線上參加。歡迎大家踴躍參加，一同修習禪定，安定身心。
URL:https://ctcmusa.org/event/%e7%a6%aa%e4%bf%ae%e7%8f%ad%ef%bc%88%e6%af%8f%e9%80%b1%e5%85%ad%ef%bc%89-8/?lang=zh-hant
LOCATION:Chung Tai International Retreat Center\, 425 Blackberry Ln\, Shepherd\, TX\, 77371\, United States
CATEGORIES:進行中,首頁
ATTACH;FMTTYPE=image/jpeg:https://ctcmusa.org/wp-content/uploads/2024/08/MeditationClass0.jpeg
END:VEVENT
BEGIN:VEVENT
DTSTART;TZID=America/Chicago:20250115T143000
DTEND;TZID=America/Chicago:20250115T163000
DTSTAMP:20260420T032159
CREATED:20241222T193300Z
LAST-MODIFIED:20241222T193300Z
UID:4797-1736951400-1736958600@ctcmusa.org
SUMMARY:禪修班（每週三）
DESCRIPTION:中文禪修班：自5月2日（星期五）起，每週五下午2:30至4:30。 住得較遠或不方便親自到場的信眾，也可選擇線上參加。歡迎大家踴躍參加，一同修習禪定，安定身心。
URL:https://ctcmusa.org/event/%e7%a6%aa%e4%bf%ae%e7%8f%ad%ef%bc%88%e6%af%8f%e9%80%b1%e4%b8%89%ef%bc%89-7/?lang=zh-hant
LOCATION:Chung Tai International Retreat Center\, 425 Blackberry Ln\, Shepherd\, TX\, 77371\, United States
CATEGORIES:進行中,首頁
ATTACH;FMTTYPE=image/jpeg:https://ctcmusa.org/wp-content/uploads/2024/08/MeditationClass0.jpeg
END:VEVENT
BEGIN:VEVENT
DTSTART;TZID=America/Chicago:20250111T143000
DTEND;TZID=America/Chicago:20250111T163000
DTSTAMP:20260420T032159
CREATED:20241222T191929Z
LAST-MODIFIED:20241222T191929Z
UID:4790-1736605800-1736613000@ctcmusa.org
SUMMARY:禪修班（每週六）
DESCRIPTION:中文禪修班：自5月2日（星期五）起，每週五下午2:30至4:30。 住得較遠或不方便親自到場的信眾，也可選擇線上參加。歡迎大家踴躍參加，一同修習禪定，安定身心。
URL:https://ctcmusa.org/event/%e7%a6%aa%e4%bf%ae%e7%8f%ad%ef%bc%88%e6%af%8f%e9%80%b1%e5%85%ad%ef%bc%89-7/?lang=zh-hant
LOCATION:Chung Tai International Retreat Center\, 425 Blackberry Ln\, Shepherd\, TX\, 77371\, United States
CATEGORIES:進行中,首頁
ATTACH;FMTTYPE=image/jpeg:https://ctcmusa.org/wp-content/uploads/2024/08/MeditationClass0.jpeg
END:VEVENT
BEGIN:VEVENT
DTSTART;TZID=America/Chicago:20250111T133000
DTEND;TZID=America/Chicago:20250111T150000
DTSTAMP:20260420T032159
CREATED:20241222T193002Z
LAST-MODIFIED:20241222T194205Z
UID:4795-1736602200-1736607600@ctcmusa.org
SUMMARY:親子禪修班（每週六）
DESCRIPTION:中文禪修班：自5月2日（星期五）起，每週五下午2:30至4:30。 住得較遠或不方便親自到場的信眾，也可選擇線上參加。歡迎大家踴躍參加，一同修習禪定，安定身心。
URL:https://ctcmusa.org/event/%e8%a6%aa%e5%ad%90%e7%a6%aa%e4%bf%ae%e7%8f%ad%ef%bc%88%e6%af%8f%e9%80%b1%e5%85%ad%ef%bc%89/?lang=zh-hant
LOCATION:Chung Tai International Retreat Center\, 425 Blackberry Ln\, Shepherd\, TX\, 77371\, United States
CATEGORIES:進行中,首頁
ATTACH;FMTTYPE=image/jpeg:https://ctcmusa.org/wp-content/uploads/2024/12/CTCM2025SpringClassesChildren.jpg
END:VEVENT
BEGIN:VEVENT
DTSTART;TZID=America/Chicago:20250108T143000
DTEND;TZID=America/Chicago:20250108T163000
DTSTAMP:20260420T032159
CREATED:20241222T191735Z
LAST-MODIFIED:20241222T191735Z
UID:4788-1736346600-1736353800@ctcmusa.org
SUMMARY:禪修班（每週三）
DESCRIPTION:中文禪修班：自5月2日（星期五）起，每週五下午2:30至4:30。 住得較遠或不方便親自到場的信眾，也可選擇線上參加。歡迎大家踴躍參加，一同修習禪定，安定身心。
URL:https://ctcmusa.org/event/%e7%a6%aa%e4%bf%ae%e7%8f%ad%ef%bc%88%e6%af%8f%e9%80%b1%e4%b8%89%ef%bc%89-6/?lang=zh-hant
LOCATION:Chung Tai International Retreat Center\, 425 Blackberry Ln\, Shepherd\, TX\, 77371\, United States
CATEGORIES:進行中,首頁
ATTACH;FMTTYPE=image/jpeg:https://ctcmusa.org/wp-content/uploads/2024/08/MeditationClass0.jpeg
END:VEVENT
BEGIN:VEVENT
DTSTART;VALUE=DATE:20241226
DTEND;VALUE=DATE:20250103
DTSTAMP:20260420T032159
CREATED:20240910T182127Z
LAST-MODIFIED:20240912T033715Z
UID:4678-1735171200-1735862399@ctcmusa.org
SUMMARY:普德冬季精進禪七
DESCRIPTION:中文禪修班：自5月2日（星期五）起，每週五下午2:30至4:30。 住得較遠或不方便親自到場的信眾，也可選擇線上參加。歡迎大家踴躍參加，一同修習禪定，安定身心。
URL:https://ctcmusa.org/event/%e6%99%ae%e5%be%b7%e5%86%ac%e5%ad%a3%e7%b2%be%e9%80%b2%e7%a6%aa%e4%b8%83/?lang=zh-hant
LOCATION:TX
CATEGORIES:禪修,首頁
ATTACH;FMTTYPE=image/jpeg:https://ctcmusa.org/wp-content/uploads/2024/02/Retreat1.jpg
END:VEVENT
BEGIN:VEVENT
DTSTART;TZID=America/Chicago:20241222T093000
DTEND;TZID=America/Chicago:20241222T163000
DTSTAMP:20260420T032159
CREATED:20240910T181945Z
LAST-MODIFIED:20241222T153659Z
UID:4668-1734859800-1734885000@ctcmusa.org
SUMMARY:德州寶塔禪寺一日禪
DESCRIPTION:中文禪修班：自5月2日（星期五）起，每週五下午2:30至4:30。 住得較遠或不方便親自到場的信眾，也可選擇線上參加。歡迎大家踴躍參加，一同修習禪定，安定身心。
URL:https://ctcmusa.org/event/%e5%be%b7%e5%b7%9e%e5%af%b6%e5%a1%94%e7%a6%aa%e5%af%ba%e4%b8%80%e6%97%a5%e7%a6%aa-2/?lang=zh-hant
LOCATION:Chung Tai International Retreat Center\, 425 Blackberry Ln\, Shepherd\, TX\, 77371\, United States
CATEGORIES:禪修,首頁
ATTACH;FMTTYPE=image/jpeg:https://ctcmusa.org/wp-content/uploads/2024/02/Retreat1.jpg
END:VEVENT
BEGIN:VEVENT
DTSTART;TZID=America/Chicago:20241123T143000
DTEND;TZID=America/Chicago:20241123T163000
DTSTAMP:20260420T032159
CREATED:20241109T010859Z
LAST-MODIFIED:20241120T033601Z
UID:4733-1732372200-1732379400@ctcmusa.org
SUMMARY:禪修班（每週六）
DESCRIPTION:中文禪修班：自5月2日（星期五）起，每週五下午2:30至4:30。 住得較遠或不方便親自到場的信眾，也可選擇線上參加。歡迎大家踴躍參加，一同修習禪定，安定身心。
URL:https://ctcmusa.org/event/%e7%a6%aa%e4%bf%ae%e7%8f%ad%ef%bc%88%e6%af%8f%e9%80%b1%e5%85%ad%ef%bc%89-2/?lang=zh-hant
LOCATION:Chung Tai International Retreat Center\, 425 Blackberry Ln\, Shepherd\, TX\, 77371\, United States
CATEGORIES:進行中,首頁
ATTACH;FMTTYPE=image/jpeg:https://ctcmusa.org/wp-content/uploads/2024/08/MeditationClass0.jpeg
END:VEVENT
BEGIN:VEVENT
DTSTART;TZID=America/Chicago:20241123T110000
DTEND;TZID=America/Chicago:20241123T140000
DTSTAMP:20260420T032159
CREATED:20240910T181836Z
LAST-MODIFIED:20241120T043026Z
UID:4670-1732359600-1732370400@ctcmusa.org
SUMMARY:感恩節素齋聯誼與森林步道經行
DESCRIPTION:中文禪修班：自5月2日（星期五）起，每週五下午2:30至4:30。 住得較遠或不方便親自到場的信眾，也可選擇線上參加。歡迎大家踴躍參加，一同修習禪定，安定身心。
URL:https://ctcmusa.org/event/%e6%84%9f%e6%81%a9%e7%af%80%e7%b4%a0%e7%83%a4%e8%81%af%e8%aa%bc%e9%a4%90%e6%9c%83/?lang=zh-hant
LOCATION:Chung Tai International Retreat Center\, 425 Blackberry Ln\, Shepherd\, TX\, 77371\, United States
CATEGORIES:活動,首頁
ATTACH;FMTTYPE=image/jpeg:https://ctcmusa.org/wp-content/uploads/2024/09/thanksgiving2024.jpg
END:VEVENT
BEGIN:VEVENT
DTSTART;TZID=America/Chicago:20241120T143000
DTEND;TZID=America/Chicago:20241120T163000
DTSTAMP:20260420T032159
CREATED:20241109T011237Z
LAST-MODIFIED:20241120T033644Z
UID:4737-1732113000-1732120200@ctcmusa.org
SUMMARY:禪修班（每週三）
DESCRIPTION:中文禪修班：自5月2日（星期五）起，每週五下午2:30至4:30。 住得較遠或不方便親自到場的信眾，也可選擇線上參加。歡迎大家踴躍參加，一同修習禪定，安定身心。
URL:https://ctcmusa.org/event/%e7%a6%aa%e4%bf%ae%e7%8f%ad%ef%bc%88%e6%af%8f%e9%80%b1%e4%b8%89%ef%bc%89-2/?lang=zh-hant
LOCATION:Chung Tai International Retreat Center\, 425 Blackberry Ln\, Shepherd\, TX\, 77371\, United States
CATEGORIES:進行中,首頁
ATTACH;FMTTYPE=image/jpeg:https://ctcmusa.org/wp-content/uploads/2024/08/MeditationClass0.jpeg
END:VEVENT
BEGIN:VEVENT
DTSTART;TZID=America/Chicago:20241116T143000
DTEND;TZID=America/Chicago:20241116T163000
DTSTAMP:20260420T032159
CREATED:20241109T010736Z
LAST-MODIFIED:20241120T033736Z
UID:4739-1731767400-1731774600@ctcmusa.org
SUMMARY:禪修班（每週六）
DESCRIPTION:中文禪修班：自5月2日（星期五）起，每週五下午2:30至4:30。 住得較遠或不方便親自到場的信眾，也可選擇線上參加。歡迎大家踴躍參加，一同修習禪定，安定身心。
URL:https://ctcmusa.org/event/%e7%a6%aa%e4%bf%ae%e7%8f%ad%ef%bc%88%e6%af%8f%e9%80%b1%e5%85%ad%ef%bc%89-6/?lang=zh-hant
LOCATION:Chung Tai International Retreat Center\, 425 Blackberry Ln\, Shepherd\, TX\, 77371\, United States
CATEGORIES:進行中,首頁
ATTACH;FMTTYPE=image/jpeg:https://ctcmusa.org/wp-content/uploads/2024/08/MeditationClass0.jpeg
END:VEVENT
BEGIN:VEVENT
DTSTART;TZID=America/Chicago:20241110T093000
DTEND;TZID=America/Chicago:20241110T163000
DTSTAMP:20260420T032159
CREATED:20240910T181702Z
LAST-MODIFIED:20241120T033944Z
UID:4675-1731231000-1731256200@ctcmusa.org
SUMMARY:德州寶塔禪寺一日禪
DESCRIPTION:中文禪修班：自5月2日（星期五）起，每週五下午2:30至4:30。 住得較遠或不方便親自到場的信眾，也可選擇線上參加。歡迎大家踴躍參加，一同修習禪定，安定身心。
URL:https://ctcmusa.org/event/%e5%be%b7%e5%b7%9e%e5%af%b6%e5%a1%94%e7%a6%aa%e5%af%ba%e4%b8%80%e6%97%a5%e7%a6%aa-3/?lang=zh-hant
LOCATION:Chung Tai International Retreat Center\, 425 Blackberry Ln\, Shepherd\, TX\, 77371\, United States
CATEGORIES:禪修,首頁
ATTACH;FMTTYPE=image/jpeg:https://ctcmusa.org/wp-content/uploads/2024/02/Retreat1.jpg
END:VEVENT
BEGIN:VEVENT
DTSTART;VALUE=DATE:20241024
DTEND;VALUE=DATE:20241026
DTSTAMP:20260420T032159
CREATED:20240910T181525Z
LAST-MODIFIED:20241022T042618Z
UID:4674-1729728000-1729900799@ctcmusa.org
SUMMARY:中台禪寺住持和尚蒞臨休士頓地區 弘法
DESCRIPTION:中文禪修班：自5月2日（星期五）起，每週五下午2:30至4:30。 住得較遠或不方便親自到場的信眾，也可選擇線上參加。歡迎大家踴躍參加，一同修習禪定，安定身心。
URL:https://ctcmusa.org/event/%e4%b8%ad%e5%8f%b0%e7%a6%aa%e5%af%ba%e4%bd%8f%e6%8c%81%e5%92%8c%e5%b0%9a%e8%92%9e%e8%87%a8%e4%bc%91%e5%a3%ab%e9%a0%93%e5%9c%b0%e5%8d%80-%e5%bc%98%e6%b3%95/?lang=zh-hant
LOCATION:TX
CATEGORIES:活動,首頁
ATTACH;FMTTYPE=image/jpeg:https://ctcmusa.org/wp-content/uploads/2024/09/2024年10月25日（週五）.jpeg
END:VEVENT
BEGIN:VEVENT
DTSTART;VALUE=DATE:20241010
DTEND;VALUE=DATE:20241014
DTSTAMP:20260420T032159
CREATED:20240910T174503Z
LAST-MODIFIED:20240910T174503Z
UID:4677-1728518400-1728863999@ctcmusa.org
SUMMARY:中台禪寺 2024年度在家菩薩戒戒會
DESCRIPTION:中文禪修班：自5月2日（星期五）起，每週五下午2:30至4:30。 住得較遠或不方便親自到場的信眾，也可選擇線上參加。歡迎大家踴躍參加，一同修習禪定，安定身心。
URL:https://ctcmusa.org/event/%e4%b8%ad%e5%8f%b0%e7%a6%aa%e5%af%ba-2024%e5%b9%b4%e5%ba%a6%e5%9c%a8%e5%ae%b6%e8%8f%a9%e8%96%a9%e6%88%92%e6%88%92%e6%9c%83/?lang=zh-hant
LOCATION:TX
CATEGORIES:法會,首頁
ATTACH;FMTTYPE=image/jpeg:https://ctcmusa.org/wp-content/uploads/2023/09/Ceremony_2_5.jpg
END:VEVENT
BEGIN:VEVENT
DTSTART;TZID=America/Chicago:20241005T143000
DTEND;TZID=America/Chicago:20241005T163000
DTSTAMP:20260420T032159
CREATED:20240830T212931Z
LAST-MODIFIED:20240910T020530Z
UID:4639-1728138600-1728145800@ctcmusa.org
SUMMARY:禪修班（每週六）
DESCRIPTION:中文禪修班：自5月2日（星期五）起，每週五下午2:30至4:30。 住得較遠或不方便親自到場的信眾，也可選擇線上參加。歡迎大家踴躍參加，一同修習禪定，安定身心。
URL:https://ctcmusa.org/event/%e7%a6%aa%e4%bf%ae%e7%8f%ad%ef%bc%88%e6%af%8f%e9%80%b1%e5%85%ad%ef%bc%89-3/?lang=zh-hant
LOCATION:Chung Tai International Retreat Center\, 425 Blackberry Ln\, Shepherd\, TX\, 77371\, United States
CATEGORIES:進行中,首頁
ATTACH;FMTTYPE=image/jpeg:https://ctcmusa.org/wp-content/uploads/2024/08/MeditationClass0.jpeg
END:VEVENT
BEGIN:VEVENT
DTSTART;TZID=America/Chicago:20241002T143000
DTEND;TZID=America/Chicago:20241002T163000
DTSTAMP:20260420T032159
CREATED:20240830T212734Z
LAST-MODIFIED:20240910T020842Z
UID:4645-1727879400-1727886600@ctcmusa.org
SUMMARY:禪修班（每週三）
DESCRIPTION:中文禪修班：自5月2日（星期五）起，每週五下午2:30至4:30。 住得較遠或不方便親自到場的信眾，也可選擇線上參加。歡迎大家踴躍參加，一同修習禪定，安定身心。
URL:https://ctcmusa.org/event/%e7%a6%aa%e4%bf%ae%e7%8f%ad%ef%bc%88%e6%af%8f%e9%80%b1%e4%b8%89%ef%bc%89-3/?lang=zh-hant
LOCATION:Chung Tai International Retreat Center\, 425 Blackberry Ln\, Shepherd\, TX\, 77371\, United States
CATEGORIES:進行中,首頁
ATTACH;FMTTYPE=image/jpeg:https://ctcmusa.org/wp-content/uploads/2024/08/MeditationClass0.jpeg
END:VEVENT
BEGIN:VEVENT
DTSTART;TZID=America/Chicago:20240929T093000
DTEND;TZID=America/Chicago:20240929T163000
DTSTAMP:20260420T032159
CREATED:20240910T174259Z
LAST-MODIFIED:20240912T035349Z
UID:4688-1727602200-1727627400@ctcmusa.org
SUMMARY:德州寶塔禪寺一日禪
DESCRIPTION:中文禪修班：自5月2日（星期五）起，每週五下午2:30至4:30。 住得較遠或不方便親自到場的信眾，也可選擇線上參加。歡迎大家踴躍參加，一同修習禪定，安定身心。
URL:https://ctcmusa.org/event/%e5%be%b7%e5%b7%9e%e5%af%b6%e5%a1%94%e7%a6%aa%e5%af%ba%e4%b8%80%e6%97%a5%e7%a6%aa-4/?lang=zh-hant
LOCATION:Chung Tai International Retreat Center\, 425 Blackberry Ln\, Shepherd\, TX\, 77371\, United States
CATEGORIES:禪修,首頁
ATTACH;FMTTYPE=image/jpeg:https://ctcmusa.org/wp-content/uploads/2024/02/Retreat1.jpg
END:VEVENT
BEGIN:VEVENT
DTSTART;TZID=America/Chicago:20240928T143000
DTEND;TZID=America/Chicago:20240928T163000
DTSTAMP:20260420T032159
CREATED:20240830T212901Z
LAST-MODIFIED:20240910T020610Z
UID:4641-1727533800-1727541000@ctcmusa.org
SUMMARY:禪修班（每週六）
DESCRIPTION:中文禪修班：自5月2日（星期五）起，每週五下午2:30至4:30。 住得較遠或不方便親自到場的信眾，也可選擇線上參加。歡迎大家踴躍參加，一同修習禪定，安定身心。
URL:https://ctcmusa.org/event/%e7%a6%aa%e4%bf%ae%e7%8f%ad%ef%bc%88%e6%af%8f%e9%80%b1%e5%85%ad%ef%bc%89-4/?lang=zh-hant
LOCATION:Chung Tai International Retreat Center\, 425 Blackberry Ln\, Shepherd\, TX\, 77371\, United States
CATEGORIES:進行中,首頁
ATTACH;FMTTYPE=image/jpeg:https://ctcmusa.org/wp-content/uploads/2024/08/MeditationClass0.jpeg
END:VEVENT
END:VCALENDAR